BEGIN:VCALENDAR
VERSION:2.0
PRODID:-//zeitbank-plus.at - ECPv6.15.20//NONSGML v1.0//EN
CALSCALE:GREGORIAN
METHOD:PUBLISH
X-WR-CALNAME:zeitbank-plus.at
X-ORIGINAL-URL:https://zeitbank-plus.at
X-WR-CALDESC:Veranstaltungen für zeitbank-plus.at
REFRESH-INTERVAL;VALUE=DURATION:PT1H
X-Robots-Tag:noindex
X-PUBLISHED-TTL:PT1H
BEGIN:VTIMEZONE
TZID:Europe/Vienna
BEGIN:DAYLIGHT
TZOFFSETFROM:+0100
TZOFFSETTO:+0200
TZNAME:CEST
DTSTART:20210328T010000
END:DAYLIGHT
BEGIN:STANDARD
TZOFFSETFROM:+0200
TZOFFSETTO:+0100
TZNAME:CET
DTSTART:20211031T010000
END:STANDARD
BEGIN:DAYLIGHT
TZOFFSETFROM:+0100
TZOFFSETTO:+0200
TZNAME:CEST
DTSTART:20220327T010000
END:DAYLIGHT
BEGIN:STANDARD
TZOFFSETFROM:+0200
TZOFFSETTO:+0100
TZNAME:CET
DTSTART:20221030T010000
END:STANDARD
BEGIN:DAYLIGHT
TZOFFSETFROM:+0100
TZOFFSETTO:+0200
TZNAME:CEST
DTSTART:20230326T010000
END:DAYLIGHT
BEGIN:STANDARD
TZOFFSETFROM:+0200
TZOFFSETTO:+0100
TZNAME:CET
DTSTART:20231029T010000
END:STANDARD
BEGIN:DAYLIGHT
TZOFFSETFROM:+0100
TZOFFSETTO:+0200
TZNAME:CEST
DTSTART:20240331T010000
END:DAYLIGHT
BEGIN:STANDARD
TZOFFSETFROM:+0200
TZOFFSETTO:+0100
TZNAME:CET
DTSTART:20241027T010000
END:STANDARD
BEGIN:DAYLIGHT
TZOFFSETFROM:+0100
TZOFFSETTO:+0200
TZNAME:CEST
DTSTART:20250330T010000
END:DAYLIGHT
BEGIN:STANDARD
TZOFFSETFROM:+0200
TZOFFSETTO:+0100
TZNAME:CET
DTSTART:20251026T010000
END:STANDARD
BEGIN:DAYLIGHT
TZOFFSETFROM:+0100
TZOFFSETTO:+0200
TZNAME:CEST
DTSTART:20260329T010000
END:DAYLIGHT
BEGIN:STANDARD
TZOFFSETFROM:+0200
TZOFFSETTO:+0100
TZNAME:CET
DTSTART:20261025T010000
END:STANDARD
BEGIN:DAYLIGHT
TZOFFSETFROM:+0100
TZOFFSETTO:+0200
TZNAME:CEST
DTSTART:20270328T010000
END:DAYLIGHT
BEGIN:STANDARD
TZOFFSETFROM:+0200
TZOFFSETTO:+0100
TZNAME:CET
DTSTART:20271031T010000
END:STANDARD
END:VTIMEZONE
BEGIN:VEVENT
DTSTART;TZID=Europe/Vienna:20260420T183000
DTEND;TZID=Europe/Vienna:20260420T183000
DTSTAMP:20260423T102848
CREATED:20260414T090151Z
LAST-MODIFIED:20260414T101754Z
UID:13310-1776709800-1776709800@zeitbank-plus.at
SUMMARY:Impulsvortrag in Neuhofen an der Krems zur Gründung einer neuen Zeitbankplus
DESCRIPTION:Impulsvortrag in Neuhofen von Elisabeth Frommel und Ingeborg Weißenböck zur Gründung einer neuen Zeitbankplus \nGemeindeamt Neuhofen an der Krems um 18:30 Uhr
URL:https://zeitbank-plus.at/termin/impulsvortrag-in-neuhofen-an-der-krems-zur-gruendung-einer-neuen-zeitbankplus/
LOCATION:Neuhofen
END:VEVENT
BEGIN:VEVENT
DTSTART;VALUE=DATE:20251112
DTEND;VALUE=DATE:20251113
DTSTAMP:20260423T102848
CREATED:20250923T082230Z
LAST-MODIFIED:20251107T101135Z
UID:12911-1762905600-1762991999@zeitbank-plus.at
SUMMARY:ZEITBANKplus Netzwerktreffen in Schlierbach
DESCRIPTION:
URL:https://zeitbank-plus.at/termin/zeitbankplus-netzwerktreffen-in-schlierbach/
LOCATION:Schlierbach\, Panoramaweg 1\, Schlierbach\, 4553
END:VEVENT
BEGIN:VEVENT
DTSTART;TZID=Europe/Vienna:20250329T090000
DTEND;TZID=Europe/Vienna:20250329T130000
DTSTAMP:20260423T102848
CREATED:20250210T092312Z
LAST-MODIFIED:20250315T082725Z
UID:12383-1743238800-1743253200@zeitbank-plus.at
SUMMARY:ZEITBANKplus Workshop am 29. März 2025
DESCRIPTION:ZEITBANKplus Workshop im Rahmen des EU-Projekts am 29. März 2025\nLiebe ZEITBANKplus Obleute und Mitglieder! \nIch darf euch den Termin für das Abschluss-Workshops im Rahmen unseres EU Projektes ankündigen: \nSa\, 29. März 2025:\nZeit: 09:00 bis 13:00 Uhr\nOrt: SPES Hotel Schlierbach\n13.00 Uhr:  Auf Wunsch Mittagessen (nicht im WS inbegriffen)\n14.30 Uhr:  Generalversammlung (für alle Mitglieder \nWir freuen uns auf eure Teilnahme
URL:https://zeitbank-plus.at/termin/zeitbankplus-workshop-am-29-maerz-2025/
LOCATION:Schlierbach\, Panoramaweg 1\, Schlierbach\, 4553
ORGANIZER;CN="Zeitbankplus":MAILTO:dachverband@zeitbank.at
END:VEVENT
BEGIN:VEVENT
DTSTART;TZID=Europe/Vienna:20250222T090000
DTEND;TZID=Europe/Vienna:20250222T090000
DTSTAMP:20260423T102848
CREATED:20240930T151127Z
LAST-MODIFIED:20250221T113009Z
UID:11933-1740214800-1740214800@zeitbank-plus.at
SUMMARY:ZEITBANKplus Workshop am 22. Februar 2025
DESCRIPTION:ZEITBANKplus Workshop im Rahmen des EU-Projekts am 22. Februar 2025\nLiebe ZEITBANKplus Obleute und Mitglieder! \nIch darf euch die Termine für unsere letzten beiden Frühjahrs-Workshops im Rahmen unseres EU Projektes ankündigen:\nSa\, 22. Februar 2025:\nZeit: 09:00 bis 13:00 Uhr\nOrt: SPES Hotel Schlierbach\n13.00 Uhr:  Auf Wunsch Mittagessen (nicht im WS inbegriffen)\n14.30 Uhr:  Vorstandssitzung (nur für Vorstandsmitglieder) \nSa\, 29. Februar 2025:\nZeit: 09:00 bis 13:00 Uhr\nOrt: SPES Hotel Schlierbach\n13.00 Uhr:  Auf Wunsch Mittagessen (nicht im WS inbegriffen)\n14.30 Uhr:  Generalversammlung (für alle Mitglieder \nWir freuen uns auf eure Teilnahme
URL:https://zeitbank-plus.at/termin/zeitbankplus-workshop-am-22-februar-2025/
LOCATION:Schlierbach\, Panoramaweg 1\, Schlierbach\, 4553
ORGANIZER;CN="Zeitbankplus":MAILTO:dachverband@zeitbank.at
END:VEVENT
BEGIN:VEVENT
DTSTART;VALUE=DATE:20241116
DTEND;VALUE=DATE:20241117
DTSTAMP:20260423T102848
CREATED:20240930T150648Z
LAST-MODIFIED:20240930T152308Z
UID:11931-1731715200-1731801599@zeitbank-plus.at
SUMMARY:ZEITBANKplus Workshop 16. November 2024
DESCRIPTION:ZEITBANKplus Workshop \nZur Weiterentwicklung und Verbreitung unserer Vereine \nSamstag\, 16. November 2024 von 09:00 – 13:00 Uhr im SPES Hotel in Schlierbach \nWir laden euch im Rahmen des gemeinsamen Projektes mit SPES e.V. Deutschland und dem Dachverband sehr herzlich dazu ein. Wir freuen uns auf eure Teilnahme und ersuchen um Anmeldung bei Eva Maria Lubinger unter lubinger@spes.co.at oder Tel. +43 676 30 262 30.
URL:https://zeitbank-plus.at/termin/zeitbankplus-workshop-16-november-2024/
LOCATION:Schlierbach\, Panoramaweg 1\, Schlierbach\, 4553
ORGANIZER;CN="Zeitbankplus":MAILTO:dachverband@zeitbank.at
END:VEVENT
BEGIN:VEVENT
DTSTART;VALUE=DATE:20241005
DTEND;VALUE=DATE:20241006
DTSTAMP:20260423T102848
CREATED:20240930T145755Z
LAST-MODIFIED:20240930T152230Z
UID:11929-1728086400-1728172799@zeitbank-plus.at
SUMMARY:ZEITBANKplus Workshop 5. Oktober 2024
DESCRIPTION:ZEITBANKplus Workshop \nZur Weiterentwicklung und Verbreitung unserer Vereine \nSamstag\, 5. Oktober 2024 von 09:00 – 13:00 Uhr im SPES Hotel in Schlierbach \nWir laden euch im Rahmen des gemeinsamen Projektes mit SPES e.V. Deutschland und dem Dachverband sehr herzlich dazu ein. Wir freuen uns auf eure Teilnahme und ersuchen um Anmeldung bei Eva Maria Lubinger unter lubinger@spes.co.at oder Tel. +43 676 30 262 30.
URL:https://zeitbank-plus.at/termin/zeitbankplus-workshop-5-oktober-2024/
LOCATION:Schlierbach\, Panoramaweg 1\, Schlierbach\, 4553
ORGANIZER;CN="Zeitbankplus":MAILTO:dachverband@zeitbank.at
END:VEVENT
BEGIN:VEVENT
DTSTART;VALUE=DATE:20240630
DTEND;VALUE=DATE:20240704
DTSTAMP:20260423T102848
CREATED:20240308T104929Z
LAST-MODIFIED:20240311T141622Z
UID:11522-1719705600-1720051199@zeitbank-plus.at
SUMMARY:Exkursion nach Freiburg
DESCRIPTION:Es sind alle Zeitbank Mitglieder eingeladen.\nDie Übernachtungen sind in Freiburg\, die Besichtigungen/Workshops in Baden Württemberg. Im Rahmen der EU Förderung werden die Kosten für Bus\, Übernachtung\, Frühstück und 1 Essen bezahlt.
URL:https://zeitbank-plus.at/termin/exkursion-nach-freiburg/
LOCATION:Freiburg
ORGANIZER;CN="Zeitbankplus":MAILTO:dachverband@zeitbank.at
END:VEVENT
BEGIN:VEVENT
DTSTART;TZID=Europe/Vienna:20240405T143000
DTEND;TZID=Europe/Vienna:20240405T143000
DTSTAMP:20260423T102848
CREATED:20240308T103716Z
LAST-MODIFIED:20240308T104242Z
UID:11517-1712327400-1712327400@zeitbank-plus.at
SUMMARY:Einladung zur Generalversammlung 2024
DESCRIPTION:Einladung als pdf-Datei herunterladen
URL:https://zeitbank-plus.at/termin/einladung-zur-generalversammlung-2024/
LOCATION:Schlierbach\, Panoramaweg 1\, Schlierbach\, 4553
ORGANIZER;CN="Zeitbankplus":MAILTO:dachverband@zeitbank.at
END:VEVENT
BEGIN:VEVENT
DTSTART;TZID=Europe/Vienna:20230311T140000
DTEND;TZID=Europe/Vienna:20230311T190000
DTSTAMP:20260423T102848
CREATED:20230301T100930Z
LAST-MODIFIED:20240308T104710Z
UID:10925-1678543200-1678561200@zeitbank-plus.at
SUMMARY:Einladung zur Generalversammlung 2023
DESCRIPTION:Einladung als pdf-Datei herunterladen
URL:https://zeitbank-plus.at/termin/einladung-zur-generalversammlung-2023/
LOCATION:Schlierbach\, Panoramaweg 1\, Schlierbach\, 4553
ORGANIZER;CN="Zeitbankplus":MAILTO:dachverband@zeitbank.at
END:VEVENT
BEGIN:VEVENT
DTSTART;VALUE=DATE:20220827
DTEND;VALUE=DATE:20220828
DTSTAMP:20260423T102848
CREATED:20221030T173721Z
LAST-MODIFIED:20221030T182014Z
UID:10223-1661558400-1661644799@zeitbank-plus.at
SUMMARY:Neuwahl Dachverband
DESCRIPTION:
URL:https://zeitbank-plus.at/termin/neuwahl-dachverband/
END:VEVENT
END:VCALENDAR