BEGIN:VCALENDAR
VERSION:2.0
PRODID:-//zeitbank-plus.at - ECPv6.15.20//NONSGML v1.0//EN
CALSCALE:GREGORIAN
METHOD:PUBLISH
X-ORIGINAL-URL:https://zeitbank-plus.at
X-WR-CALDESC:Veranstaltungen für zeitbank-plus.at
REFRESH-INTERVAL;VALUE=DURATION:PT1H
X-Robots-Tag:noindex
X-PUBLISHED-TTL:PT1H
BEGIN:VTIMEZONE
TZID:Europe/Vienna
BEGIN:DAYLIGHT
TZOFFSETFROM:+0100
TZOFFSETTO:+0200
TZNAME:CEST
DTSTART:20250330T010000
END:DAYLIGHT
BEGIN:STANDARD
TZOFFSETFROM:+0200
TZOFFSETTO:+0100
TZNAME:CET
DTSTART:20251026T010000
END:STANDARD
BEGIN:DAYLIGHT
TZOFFSETFROM:+0100
TZOFFSETTO:+0200
TZNAME:CEST
DTSTART:20260329T010000
END:DAYLIGHT
BEGIN:STANDARD
TZOFFSETFROM:+0200
TZOFFSETTO:+0100
TZNAME:CET
DTSTART:20261025T010000
END:STANDARD
BEGIN:DAYLIGHT
TZOFFSETFROM:+0100
TZOFFSETTO:+0200
TZNAME:CEST
DTSTART:20270328T010000
END:DAYLIGHT
BEGIN:STANDARD
TZOFFSETFROM:+0200
TZOFFSETTO:+0100
TZNAME:CET
DTSTART:20271031T010000
END:STANDARD
END:VTIMEZONE
BEGIN:VEVENT
DTSTART;TZID=Europe/Vienna:20260425T090000
DTEND;TZID=Europe/Vienna:20260425T170000
DTSTAMP:20260421T103455
CREATED:20260414T091114Z
LAST-MODIFIED:20260414T100423Z
UID:13313-1777107600-1777136400@zeitbank-plus.at
SUMMARY:Workshop im SPES
DESCRIPTION:
URL:https://zeitbank-plus.at/termin/workshop-im-spes/
LOCATION:Schlierbach\, Panoramaweg 1\, Schlierbach\, 4553
END:VEVENT
BEGIN:VEVENT
DTSTART;VALUE=DATE:20260709
DTEND;VALUE=DATE:20260713
DTSTAMP:20260421T103455
CREATED:20260414T092737Z
LAST-MODIFIED:20260414T093104Z
UID:13323-1783555200-1783900799@zeitbank-plus.at
SUMMARY:Exkursion Deutschland
DESCRIPTION:
URL:https://zeitbank-plus.at/termin/exkursion-deutschland/
LOCATION:Schlierbach\, Panoramaweg 1\, Schlierbach\, 4553
END:VEVENT
BEGIN:VEVENT
DTSTART;VALUE=DATE:20260807
DTEND;VALUE=DATE:20260808
DTSTAMP:20260421T103455
CREATED:20260414T093443Z
LAST-MODIFIED:20260414T093711Z
UID:13329-1786060800-1786147199@zeitbank-plus.at
SUMMARY:Vorstandssitzung und Generalversammlung
DESCRIPTION:14:00 Uhr:\nVorstandssitzung im SPES / vorher Rechnungsprüfung\n16:00 Uhr:\nGeneralversammlung\, anschließend Hausführung im SPES durch Johannes Brandl
URL:https://zeitbank-plus.at/termin/vorstandssitzung-und-generalversammlung/
LOCATION:Schlierbach\, Panoramaweg 1\, Schlierbach\, 4553
END:VEVENT
BEGIN:VEVENT
DTSTART;TZID=Europe/Vienna:20260923T180000
DTEND;TZID=Europe/Vienna:20260923T180000
DTSTAMP:20260421T103455
CREATED:20260414T094319Z
LAST-MODIFIED:20260414T100741Z
UID:13332-1790186400-1790186400@zeitbank-plus.at
SUMMARY:Impulsvortrag in Inzersdorf zur Gründung einer Zeitbankplus
DESCRIPTION:Impulsvortrag in Inzersdorf von Eva Lubinger und Ingeborg Weißenböck zur Gründung einer neuen Zeitbankplus \nGemeindeamt Inzersdorf im Kremstal um 18:00 Uhr
URL:https://zeitbank-plus.at/termin/impulsvortrag-in-inzersdorf-zur-gruendung-einer-zeitbankplus/
LOCATION:Inzersdorf\, Dorfplatz 2\, Inzersdorf im Kremstal\, 4565\, Austria
END:VEVENT
BEGIN:VEVENT
DTSTART;VALUE=DATE:20261003
DTEND;VALUE=DATE:20261004
DTSTAMP:20260421T103455
CREATED:20260414T095432Z
LAST-MODIFIED:20260414T100018Z
UID:13342-1790985600-1791071999@zeitbank-plus.at
SUMMARY:Tagesausflug 2026
DESCRIPTION:Einladung zum Tagesausflug (siehe Beilage)\, um auch in Österreich sehr interessante Projekte kennenzulernen!!\nEs ist mir persönlich sehr wichtig\, dass wir uns in entspannter Atmosphäre besser kennenlernen\, Erfahrungen austauschen können\, und gemeinsam einen schönen Tag erleben dürfen. Aus diesem Grunde und als DANKESCHÖN FÜR EURE WUNDERBARE ARBEIT seid ihr vom Dachverband herzlich eingeladen
URL:https://zeitbank-plus.at/termin/tagesausflug-2026/
LOCATION:Schlierbach\, Panoramaweg 1\, Schlierbach\, 4553
ORGANIZER;CN="Zeitbankplus":MAILTO:dachverband@zeitbank.at
END:VEVENT
BEGIN:VEVENT
DTSTART;TZID=Europe/Vienna:20261017T090000
DTEND;TZID=Europe/Vienna:20261017T170000
DTSTAMP:20260421T103455
CREATED:20260414T100151Z
LAST-MODIFIED:20260414T100151Z
UID:13349-1792227600-1792256400@zeitbank-plus.at
SUMMARY:Workshop im SPES am 17. Oktober 2026
DESCRIPTION:Programm folgt
URL:https://zeitbank-plus.at/termin/workshop-im-spes-am-17-oktober-2026/
LOCATION:Schlierbach\, Panoramaweg 1\, Schlierbach\, 4553
END:VEVENT
END:VCALENDAR